BEGIN:VCALENDAR
VERSION:2.0
PRODID:-//yalgaarxtc - ECPv6.8.2.1//NONSGML v1.0//EN
CALSCALE:GREGORIAN
METHOD:PUBLISH
X-ORIGINAL-URL:https://ntu.edu.pk/xtc
X-WR-CALDESC:Events for yalgaarxtc
REFRESH-INTERVAL;VALUE=DURATION:PT1H
X-Robots-Tag:noindex
X-PUBLISHED-TTL:PT1H
BEGIN:VTIMEZONE
TZID:UTC
BEGIN:STANDARD
TZOFFSETFROM:+0000
TZOFFSETTO:+0000
TZNAME:UTC
DTSTART:20250101T000000
END:STANDARD
END:VTIMEZONE
BEGIN:VEVENT
DTSTART;TZID=UTC:20250220T120000
DTEND;TZID=UTC:20250220T140000
DTSTAMP:20260424T052723
CREATED:20241225T215850Z
LAST-MODIFIED:20241225T220018Z
UID:1591-1740052800-1740060000@ntu.edu.pk
SUMMARY:Cricket
DESCRIPTION:
URL:https://ntu.edu.pk/xtc/event/cricket/
CATEGORIES:non-technical-day-1
ATTACH;FMTTYPE=image/avif:https://ntu.edu.pk/xtc/wp-content/uploads/2024/12/cricket.avif
END:VEVENT
END:VCALENDAR